BEGIN:VCALENDAR
VERSION:2.0
PRODID:-//Squarespace Inc/Squarespace 6//v6//EN
BEGIN:VEVENT
UID:5c5399e324a6946784baacb2@squarespace.com
DTSTAMP:20190219T041856Z
DTSTART:20190306T070000Z
DTEND:20190306T090000Z
SUMMARY:FARM CHATS // WOMEN WHO FARM 
GEO:-33.888017;151.176437
LOCATION:Pocket City Farms\, 31A Mallett Street\, Camperdown\, Australia
END:VEVENT
END:VCALENDAR
