BEGIN:VCALENDAR
VERSION:2.0
PRODID:-//Squarespace Inc/Squarespace 6//v6//EN
BEGIN:VEVENT
UID:5a2f13f5e4966bdc78ebc1bb@squarespace.com
DTSTAMP:20180302T034302Z
DTSTART:20180302T073000Z
DTEND:20180302T103000Z
SUMMARY:FILM + FEAST // SEED: THE UNTOLD STORY
END:VEVENT
END:VCALENDAR
