BEGIN:VCALENDAR
VERSION:2.0
PRODID:-//Squarespace Inc/Squarespace 6//v6//EN
BEGIN:VEVENT
UID:5c772cb28165f52f436ad015@squarespace.com
DTSTAMP:20190228T025454Z
DTSTART:20190504T013000Z
DTEND:20190504T023000Z
SUMMARY:FLOWER CROWN MAKING
END:VEVENT
END:VCALENDAR
