BEGIN:VCALENDAR
VERSION:2.0
PRODID:-//Squarespace Inc/Squarespace 6//v6//EN
BEGIN:VEVENT
UID:5a5c03baec212d764ff6aff6@squarespace.com
DTSTAMP:20180523T002526Z
DTSTART:20180602T000000Z
DTEND:20180602T060000Z
SUMMARY:GARDENING ESSENTIALS
GEO:-33.886897;151.176639
LOCATION:Pocket City Farms\, 31A Mallett Street\, Camperdown\, NSW\, 2050\, 
 Australia
END:VEVENT
END:VCALENDAR
