BEGIN:VCALENDAR
VERSION:2.0
PRODID:-//Squarespace Inc/Squarespace 6//v6//EN
BEGIN:VEVENT
UID:5acd5270758d467950d4e5bc@squarespace.com
DTSTAMP:20180712T040834Z
DTSTART:20180728T010000Z
DTEND:20180728T020000Z
SUMMARY:GROW YOUR OWN SEEDLINGS
GEO:-33.88899;151.176387
LOCATION:Pocket City Farms\, 31A Mallett Street\, Camperdown\, NSW\, 2050\, 
 Australia
END:VEVENT
END:VCALENDAR
