BEGIN:VCALENDAR
VERSION:2.0
PRODID:-//Squarespace Inc/Squarespace 6//v6//EN
BEGIN:VEVENT
UID:59e6c64c0abd04305def2e3c@squarespace.com
DTSTAMP:20171018T031934Z
DTSTART:20171117T233000Z
DTEND:20171118T003000Z
SUMMARY:GROW YOUR OWN SEEDLINGS
GEO:-33.88899;151.176387
LOCATION:Camperdown Commons\, 31A Mallett Street\, Camperdown\, NSW\, 2050\
 , Australia
END:VEVENT
END:VCALENDAR
