BEGIN:VCALENDAR
VERSION:2.0
PRODID:-//Squarespace Inc/Squarespace 6//v6//EN
BEGIN:VEVENT
UID:5a54242bec212dd40abdc698@squarespace.com
DTSTAMP:20180209T034253Z
DTSTART:20180210T000000Z
DTEND:20180210T010000Z
SUMMARY:GROWING GREENS: HERBS + SALADS
END:VEVENT
END:VCALENDAR
