BEGIN:VCALENDAR
VERSION:2.0
PRODID:-//Squarespace Inc/Squarespace 6//v6//EN
BEGIN:VEVENT
UID:5b4c2738aa4a9974b25418ec@squarespace.com
DTSTAMP:20180919T014210Z
DTSTART:20180922T010000Z
DTEND:20180922T020000Z
SUMMARY:INTRO TO KOMBUCHA 
GEO:-33.888017;151.176437
LOCATION:Pocket City Farms\, 31A Mallett Street\, Camperdown\, NSW\, 2050\, 
 Australia
END:VEVENT
END:VCALENDAR
