BEGIN:VCALENDAR
VERSION:2.0
PRODID:-//Squarespace Inc/Squarespace 6//v6//EN
BEGIN:VEVENT
UID:5bbfcefd71c10bb81a05888e@squarespace.com
DTSTAMP:20181114T234303Z
DTSTART:20181206T070000Z
DTEND:20181206T083000Z
SUMMARY:MAKE SERIES // BEESWAX WRAPS
GEO:-33.888017;151.176437
LOCATION:Pocket City Farms\, 31A Mallet St Camperdown\, Sydney\, NSW\, 2050
 \, Australia
END:VEVENT
END:VCALENDAR
