BEGIN:VCALENDAR
VERSION:2.0
PRODID:-//Squarespace Inc/Squarespace 6//v6//EN
BEGIN:VEVENT
UID:5bd25c4a4785d3051bf634ff@squarespace.com
DTSTAMP:20181114T234313Z
DTSTART:20181208T000000Z
DTEND:20181208T010000Z
SUMMARY:MAKE SERIES FOR KIDS! // FABRIC PRINTING PRODUCE BAGS
END:VEVENT
END:VCALENDAR
