BEGIN:VCALENDAR
VERSION:2.0
PRODID:-//Squarespace Inc/Squarespace 6//v6//EN
BEGIN:VEVENT
UID:5bbfce1cc83025dd65bfe278@squarespace.com
DTSTAMP:20181114T234320Z
DTSTART:20181213T070000Z
DTEND:20181213T090000Z
SUMMARY:MAKE SERIES // NATURAL SKIN CARE
GEO:-33.886897;151.176639
LOCATION:Pocket City Farms\, 31A Mallet St Camperdown\, Sydney\, NSW\, 2050
 \, Australia
END:VEVENT
END:VCALENDAR
