BEGIN:VCALENDAR
VERSION:2.0
PRODID:-//Squarespace Inc/Squarespace 6//v6//EN
BEGIN:VEVENT
UID:5bc67553e5e5f01fcea0812c@squarespace.com
DTSTAMP:20181114T234330Z
DTSTART:20181220T070000Z
DTEND:20181220T090000Z
SUMMARY:MAKE SERIES // PICKLES AND PRESERVES
END:VEVENT
END:VCALENDAR
