BEGIN:VCALENDAR
VERSION:2.0
PRODID:-//Squarespace Inc/Squarespace 6//v6//EN
BEGIN:VEVENT
UID:5aecd6596d2a73f6d2db91a7@squarespace.com
DTSTAMP:20180623T042607Z
DTSTART:20180623T060000Z
DTEND:20180623T073000Z
SUMMARY:MAKE YOUR OWN PIZZA - sold out
GEO:-33.888087;151.176593
LOCATION:Camperdown Commons\, 31A Mallett Street\, Camperdown\, NSW\, 2050\
 , Australia
END:VEVENT
END:VCALENDAR
