BEGIN:VCALENDAR
VERSION:2.0
PRODID:-//Squarespace Inc/Squarespace 6//v6//EN
BEGIN:VEVENT
UID:5acd891a8a922dd9b70c229c@squarespace.com
DTSTAMP:20180925T201513Z
DTSTART:20181207T230000Z
DTEND:20181208T020000Z
SUMMARY:NATIVE STINGLESS BEEKEEPING 
GEO:-33.888017;151.176437
LOCATION:Pocket City Farms\, 31A Mallett Street\, Camperdown\, NSW\, 2050\, 
 Australia
END:VEVENT
END:VCALENDAR
