BEGIN:VCALENDAR
VERSION:2.0
PRODID:-//Squarespace Inc/Squarespace 6//v6//EN
BEGIN:VEVENT
UID:5afe59cc575d1f4238b9c104@squarespace.com
DTSTAMP:20180925T200956Z
DTSTART:20180929T000000Z
DTEND:20180929T030000Z
SUMMARY:NATIVE STINGLESS BEEKEEPING 
GEO:-33.88899;151.176387
LOCATION:Camperdown Commons\, 31A Mallett Street\, Camperdown\, NSW\, 2050\
 , Australia
END:VEVENT
END:VCALENDAR
