BEGIN:VCALENDAR
VERSION:2.0
PRODID:-//Squarespace Inc/Squarespace 6//v6//EN
BEGIN:VEVENT
UID:594cf577e3df28fb726eae7a@squarespace.com
DTSTAMP:20171018T004512Z
DTSTART:20171208T230000Z
DTEND:20171209T020000Z
SUMMARY:NATIVE STINGLESS BEEKEEPING 
GEO:-33.88899;151.176387
LOCATION:Camperdown Commons\, 31A Mallett Street\, Camperdown\, NSW\, 2050\
 , Australia
END:VEVENT
END:VCALENDAR
