BEGIN:VCALENDAR
VERSION:2.0
PRODID:-//Squarespace Inc/Squarespace 6//v6//EN
BEGIN:VEVENT
UID:590952511e5b6c770b68be7d@squarespace.com
DTSTAMP:20180411T040949Z
DTSTART:20171203T020000Z
DTEND:20171203T050000Z
SUMMARY:NATURAL INDIGO SUNDAY SOCIAL
GEO:-33.88899;151.176387
LOCATION:Camperdown Commons\, 31A Mallett Street\, Camperdown\, NSW\, 2050\
 , Australia
END:VEVENT
END:VCALENDAR
