BEGIN:VCALENDAR
VERSION:2.0
PRODID:-//Squarespace Inc/Squarespace 6//v6//EN
BEGIN:VEVENT
UID:5acd8a8d8a922dd9b70c5821@squarespace.com
DTSTAMP:20181119T035239Z
DTSTART:20181124T010000Z
DTEND:20181124T050000Z
SUMMARY:THE ART OF SHIBORI + INDIGO DYEING
GEO:-33.88899;151.176387
LOCATION:Pocket City Farms\, 31A Mallett Street\, Camperdown\, NSW\, 2050\, 
 Australia
END:VEVENT
END:VCALENDAR
