BEGIN:VCALENDAR
VERSION:2.0
PRODID:-//Squarespace Inc/Squarespace 6//v6//EN
BEGIN:VEVENT
UID:5c070144cd836644ec3c2daf@squarespace.com
DTSTAMP:20181204T235142Z
DTSTART:20190301T230000Z
DTEND:20190302T020000Z
SUMMARY:SMALL SPACE VEGGIE GARDENING
END:VEVENT
END:VCALENDAR
