BEGIN:VCALENDAR
VERSION:2.0
PRODID:-//Squarespace Inc/Squarespace 6//v6//EN
BEGIN:VEVENT
UID:5b0e1b3f1ae6cff4f8f5fc8d@squarespace.com
DTSTAMP:20180925T201249Z
DTSTART:20181012T230000Z
DTEND:20181013T020000Z
SUMMARY:THE ORGANIC VEGGIE GARDEN
END:VEVENT
END:VCALENDAR
