BEGIN:VCALENDAR
VERSION:2.0
PRODID:-//Squarespace Inc/Squarespace 6//v6//EN
BEGIN:VEVENT
UID:5a5bbb9224a69410faa70ca9@squarespace.com
DTSTAMP:20180530T033215Z
DTSTART:20180421T020000Z
DTEND:20180421T050000Z
SUMMARY:THE ORGANIC VEGGIE GARDEN
END:VEVENT
END:VCALENDAR
