BEGIN:VCALENDAR
VERSION:2.0
PRODID:-//Squarespace Inc/Squarespace 6//v6//EN
BEGIN:VEVENT
UID:5b8f3010898583a9bc7ea006@squarespace.com
DTSTAMP:20180925T201135Z
DTSTART:20181001T220000Z
DTEND:20181012T060000Z
SUMMARY:KIDS IN COMMON // LITTLE FARMERS AND MORE
GEO:-33.888017;151.176437
LOCATION:Pocket City Farms\, 31A Mallet St\, Camperdown\, Australia
END:VEVENT
END:VCALENDAR
