BEGIN:VCALENDAR
VERSION:2.0
PRODID:-//Squarespace Inc/Squarespace 6//v6//EN
BEGIN:VEVENT
UID:5beb5321575d1f7b6454ddf4@squarespace.com
DTSTAMP:20190107T041222Z
DTSTART:20190202T230000Z
DTEND:20190203T020000Z
SUMMARY:THE BUSH TUCKER GARDEN
GEO:-33.88899;151.176387
LOCATION:Pocket City Farms\, 31A Mallett Street\, Camperdown\, NSW\, 2050\, 
 Australia
END:VEVENT
END:VCALENDAR
