BEGIN:VCALENDAR
VERSION:2.0
PRODID:-//Squarespace Inc/Squarespace 6//v6//EN
BEGIN:VEVENT
UID:5987ef9fd7bdce820bd112b8@squarespace.com
DTSTAMP:20171018T004246Z
DTSTART:20171124T230000Z
DTEND:20171125T003000Z
SUMMARY:THE EDIBLE BALCONY 
GEO:-33.88899;151.176387
LOCATION:Camperdown Commons\, 31A Mallett Street\, Camperdown\, NSW\, 2050\
 , Australia
END:VEVENT
END:VCALENDAR
