BEGIN:VCALENDAR
VERSION:2.0
PRODID:-//Squarespace Inc/Squarespace 6//v6//EN
BEGIN:VEVENT
UID:5a5c3f2c9140b796c4fc56bb@squarespace.com
DTSTAMP:20180515T031343Z
DTSTART:20180520T000000Z
DTEND:20180520T060000Z
SUMMARY:THE HAND CARVED KITCHEN
GEO:-33.88899;151.176387
LOCATION:Pocket City Farms\, 31A Mallett Street\, Camperdown\, NSW\, 2050\, 
 Australia
END:VEVENT
END:VCALENDAR
