BEGIN:VCALENDAR
VERSION:2.0
PRODID:-//Squarespace Inc/Squarespace 6//v6//EN
BEGIN:VEVENT
UID:59e5a44b18b27d0153263e7f@squarespace.com
DTSTAMP:20180215T205007Z
DTSTART:20180217T233000Z
DTEND:20180218T053000Z
SUMMARY:THE HAND CARVED KITCHEN
GEO:-33.88899;151.176387
LOCATION:Camperdown Commons\, 31A Mallett Street\, Camperdown\, NSW\, 2050\
 , Australia
END:VEVENT
END:VCALENDAR
