BEGIN:VCALENDAR
VERSION:2.0
PRODID:-//Squarespace Inc/Squarespace 6//v6//EN
BEGIN:VEVENT
UID:5bff5ec4352f53f3b33df4ce@squarespace.com
DTSTAMP:20181129T042204Z
DTSTART:20190316T233000Z
DTEND:20190317T053000Z
SUMMARY:THE HAND CARVED KITCHEN
GEO:-33.88899;151.176387
LOCATION:Pocket City Farms\, 31A Mallett Street\, Camperdown\, NSW\, 2050\, 
 Australia
END:VEVENT
END:VCALENDAR
