BEGIN:VCALENDAR
VERSION:2.0
PRODID:-//Squarespace Inc/Squarespace 6//v6//EN
BEGIN:VEVENT
UID:5989a1eff9a61eda9f9f190a@squarespace.com
DTSTAMP:20171030T000014Z
DTSTART:20171014T140000Z
DTEND:20171014T170000Z
SUMMARY:THE ORGANIC VEGGIE GARDEN
GEO:-33.88899;151.176387
LOCATION:Pocket City Farms\, 31A Mallett Street\, Camperdown\, NSW\, 2050\, 
 Australia
END:VEVENT
END:VCALENDAR
