BEGIN:VCALENDAR
VERSION:2.0
PRODID:-//Squarespace Inc/Squarespace 6//v6//EN
BEGIN:VEVENT
UID:5a0d2460652deae2eb73be09@squarespace.com
DTSTAMP:20171116T105907Z
DTSTART:20171207T070000Z
DTEND:20171207T090000Z
SUMMARY:THE SUCCULENT GARDEN
GEO:-33.88899;151.176387
LOCATION:Camperdown Commons\, 31A Mallett Street\, Camperdown\, NSW\, 2050\
 , Australia
END:VEVENT
END:VCALENDAR
