BEGIN:VCALENDAR
VERSION:2.0
PRODID:-//Squarespace Inc/Squarespace 6//v6//EN
BEGIN:VEVENT
UID:5a67b4c20d92973101ef212a@squarespace.com
DTSTAMP:20180712T040825Z
DTSTART:20180721T000000Z
DTEND:20180721T030000Z
SUMMARY:THE WINTER GARDEN + PREPPING FOR SPRING
GEO:-34.178243;151.119647
LOCATION:Pocket City Farms\, 31A Mallett Street\, Camperdown\, NSW\, 2050\, 
 Australia
END:VEVENT
END:VCALENDAR
