BEGIN:VCALENDAR
VERSION:2.0
PRODID:-//Squarespace Inc/Squarespace 6//v6//EN
BEGIN:VEVENT
UID:5c2dad8d562fa776fa7c7c96@squarespace.com
DTSTAMP:20190103T064305Z
DTSTART:20190405T233000Z
DTEND:20190406T001500Z
SUMMARY:URBAN FARM TOUR // APRIL
GEO:-33.888017;151.176437
LOCATION:Pocket City Farms\, 31A Mallett Street\, Camperdown\, NSW\, 2050\, 
 Australia
END:VEVENT
END:VCALENDAR
