BEGIN:VCALENDAR
VERSION:2.0
PRODID:-//Squarespace Inc/Squarespace 6//v6//EN
BEGIN:VEVENT
UID:59c30d592994ca2fe4d31f79@squarespace.com
DTSTAMP:20181211T031937Z
DTSTART:20171201T233000Z
DTEND:20171202T003000Z
SUMMARY:URBAN FARM TOUR // DECEMBER
GEO:-33.88899;151.176387
LOCATION:Camperdown Commons\, 31A Mallett Street\, Camperdown\, NSW\, 2050\
 , Australia
END:VEVENT
END:VCALENDAR
