BEGIN:VCALENDAR
VERSION:2.0
PRODID:-//Squarespace Inc/Squarespace 6//v6//EN
BEGIN:VEVENT
UID:5ad0158d562fa7b8c9004ea6@squarespace.com
DTSTAMP:20181211T031611Z
DTSTART:20190208T233000Z
DTEND:20190209T001500Z
SUMMARY:URBAN FARM TOUR // FEBRUARY
GEO:-33.88899;151.176387
LOCATION:Camperdown Commons\, 31A Mallett Street\, Camperdown\, NSW\, 2050\
 , Australia
END:VEVENT
END:VCALENDAR
