BEGIN:VCALENDAR
VERSION:2.0
PRODID:-//Squarespace Inc/Squarespace 6//v6//EN
BEGIN:VEVENT
UID:5a935509e4966bf05861e96d@squarespace.com
DTSTAMP:20180226T004145Z
DTSTART:20180323T233000Z
DTEND:20180324T003000Z
SUMMARY:URBAN FARM TOUR // MARCH
GEO:-33.88899;151.176387
LOCATION:Camperdown Commons\, 31A Mallett Street\, Camperdown\, NSW\, 2050\
 , Australia
END:VEVENT
END:VCALENDAR
