BEGIN:VCALENDAR
VERSION:2.0
PRODID:-//Squarespace Inc/Squarespace 6//v6//EN
BEGIN:VEVENT
UID:5ad014aeaa4a99abb2da1eed@squarespace.com
DTSTAMP:20181005T072350Z
DTSTART:20181006T003000Z
DTEND:20181006T013000Z
SUMMARY:URBAN FARM TOUR // OCTOBER
GEO:-33.88899;151.176387
LOCATION:Pocket City Farms\, 31A Mallett Street\, Camperdown\, NSW\, 2050\, 
 Australia
END:VEVENT
END:VCALENDAR
