BEGIN:VCALENDAR
VERSION:2.0
PRODID:-//Squarespace Inc/Squarespace 6//v6//EN
BEGIN:VEVENT
UID:5ad0148270a6adbfd88341c4@squarespace.com
DTSTAMP:20180813T210755Z
DTSTART:20180908T003000Z
DTEND:20180908T013000Z
SUMMARY:URBAN FARM TOUR // SEPTEMBER
GEO:-33.88899;151.176387
LOCATION:Pocket City Farms\, 31A Mallett Street\, Camperdown\, NSW\, 2050\, 
 Australia
END:VEVENT
END:VCALENDAR
