BEGIN:VCALENDAR
VERSION:2.0
PRODID:-//Squarespace Inc/Squarespace 6//v6//EN
BEGIN:VEVENT
UID:5ad0145b88251b63162df3fb@squarespace.com
DTSTAMP:20180712T042437Z
DTSTART:20180811T003000Z
DTEND:20180811T013000Z
SUMMARY:URBAN FARM TOUR // AUGUST
GEO:-33.88899;151.176387
LOCATION:Pocket City Farms\, 31A Mallett Street\, Camperdown\, NSW\, 2050\, 
 Australia
END:VEVENT
END:VCALENDAR
