BEGIN:VCALENDAR
VERSION:2.0
PRODID:-//Squarespace Inc/Squarespace 6//v6//EN
BEGIN:VEVENT
UID:5ad013ed1ae6cf72ec2024b8@squarespace.com
DTSTAMP:20180712T040813Z
DTSTART:20180714T003000Z
DTEND:20180714T013000Z
SUMMARY:URBAN FARM TOUR // JULY
GEO:-33.88899;151.176387
LOCATION:Camperdown Commons\, 31A Mallett Street\, Camperdown\, NSW\, 2050\
 , Australia
END:VEVENT
END:VCALENDAR
