BEGIN:VCALENDAR
VERSION:2.0
PRODID:-//Squarespace Inc/Squarespace 6//v6//EN
BEGIN:VEVENT
UID:5acd55cb352f53f7b7758db8@squarespace.com
DTSTAMP:20180515T033105Z
DTSTART:20180616T003000Z
DTEND:20180616T013000Z
SUMMARY:URBAN FARM TOUR // JUNE
GEO:-33.88899;151.176387
LOCATION:Pocket City Farms\, 31A Mallett Street\, Camperdown\, NSW\, 2050\, 
 Australia
END:VEVENT
END:VCALENDAR
