BEGIN:VCALENDAR
VERSION:2.0
PRODID:-//Squarespace Inc/Squarespace 6//v6//EN
BEGIN:VEVENT
UID:5acd52aa6d2a73d1844872b2@squarespace.com
DTSTAMP:20180515T031325Z
DTSTART:20180519T003000Z
DTEND:20180519T013000Z
SUMMARY:URBAN FARM TOUR // MAY
GEO:-33.88899;151.176387
LOCATION:Pocket City Farms\, 31A Mallett Street\, Camperdown\, NSW\, 2050\, 
 Australia
END:VEVENT
END:VCALENDAR
