BEGIN:VCALENDAR
VERSION:2.0
PRODID:-//Squarespace Inc/Squarespace 6//v6//EN
BEGIN:VEVENT
UID:5a93568d71c10b0d6552da10@squarespace.com
DTSTAMP:20180226T004101Z
DTSTART:20180421T003000Z
DTEND:20180421T013000Z
SUMMARY:URBAN FARM TOUR // APRIL
GEO:-33.88899;151.176387
LOCATION:Camperdown Commons\, 31A Mallett Street\, Camperdown\, NSW\, 2050\
 , Australia
END:VEVENT
END:VCALENDAR
