BEGIN:VCALENDAR
VERSION:2.0
PRODID:-//Squarespace Inc/Squarespace 6//v6//EN
BEGIN:VEVENT
UID:59f666d9ec212d295bcef6d6@squarespace.com
DTSTAMP:20180208T204941Z
DTSTART:20180223T233000Z
DTEND:20180224T003000Z
SUMMARY:URBAN FARM TOUR // FEBRUARY
GEO:-33.88899;151.176387
LOCATION:Camperdown Commons\, 31A Mallett Street\, Camperdown\, NSW\, 2050\
 , Australia
END:VEVENT
END:VCALENDAR
