BEGIN:VCALENDAR
VERSION:2.0
PRODID:-//Squarespace Inc/Squarespace 6//v6//EN
BEGIN:VEVENT
UID:5c0f2cc9f950b77ad778ef07@squarespace.com
DTSTAMP:20181211T032507Z
DTSTART:20190308T233000Z
DTEND:20190309T001500Z
SUMMARY:URBAN FARM TOUR // MARCH
GEO:-33.88899;151.176387
LOCATION:Camperdown Commons\, 31A Mallett Street\, Camperdown\, NSW\, 2050\
 , Australia
END:VEVENT
END:VCALENDAR
