BEGIN:VCALENDAR
VERSION:2.0
PRODID:-//Squarespace Inc/Squarespace 6//v6//EN
BEGIN:VEVENT
UID:5c2daf32352f53eb0ab5ea1f@squarespace.com
DTSTAMP:20190103T064800Z
DTSTART:20190504T003000Z
DTEND:20190504T011500Z
SUMMARY:URBAN FARM TOUR // MAY
GEO:-33.88899;151.176387
LOCATION:Pocket City Farms\, 31A Mallett Street\, Camperdown\, NSW\, 2050\, 
 Australia
END:VEVENT
END:VCALENDAR
