BEGIN:VCALENDAR
VERSION:2.0
PRODID:-//Squarespace Inc/Squarespace 6//v6//EN
BEGIN:VEVENT
UID:59c25ba1f14aa1e5a2d990d2@squarespace.com
DTSTAMP:20171018T004103Z
DTSTART:20171103T233000Z
DTEND:20171104T003000Z
SUMMARY:URBAN FARM TOUR // NOVEMBER
GEO:-33.88899;151.176387
LOCATION:Camperdown Commons\, 31A Mallett Street\, Camperdown\, NSW\, 2050\
 , Australia
END:VEVENT
END:VCALENDAR
