BEGIN:VCALENDAR
VERSION:2.0
PRODID:-//Squarespace Inc/Squarespace 6//v6//EN
BEGIN:VEVENT
UID:5b8f38474d7a9c8dcd1aaacd@squarespace.com
DTSTAMP:20190115T041954Z
DTSTART:20190214T070000Z
DTEND:20190214T083000Z
SUMMARY:WEED DATING
END:VEVENT
END:VCALENDAR
