BEGIN:VCALENDAR
VERSION:2.0
PRODID:-//Squarespace Inc/Squarespace 6//v6//EN
BEGIN:VEVENT
UID:59c34964914e6b181b43f949@squarespace.com
DTSTAMP:20171018T003915Z
DTSTART:20171110T230000Z
DTEND:20171111T033000Z
SUMMARY:WILD FOOD IN THE CITY
GEO:-33.88899;151.176387
LOCATION:Camperdown Commons\, 31A Mallett Street\, Camperdown\, NSW\, 2050\
 , Australia
END:VEVENT
END:VCALENDAR
