BEGIN:VCALENDAR
VERSION:2.0
PRODID:-//Squarespace Inc/Squarespace 6//v6//EN
BEGIN:VEVENT
UID:5ad00b84575d1fe016bf0709@squarespace.com
DTSTAMP:20180510T054355Z
DTSTART:20180622T230000Z
DTEND:20180623T070000Z
SUMMARY:WINTER FAIR AT CAMPERDOWN COMMONS
GEO:-34.178243;151.119647
LOCATION:Camperdown Commons\, 31A Mallett Street\, Camperdown\, NSW\, 2050\
 , Australia
END:VEVENT
END:VCALENDAR
