BEGIN:VCALENDAR
VERSION:2.0
PRODID:-//Squarespace Inc/Squarespace 6//v6//EN
BEGIN:VEVENT
UID:5c26f0820e2e72e38d6998a2@squarespace.com
DTSTAMP:20190217T212153Z
DTSTART:20190525T000000Z
DTEND:20190525T030000Z
SUMMARY:WINTER FERMENTS: KRAUT + MASTERTONIC
GEO:-33.888017;151.176437
LOCATION:Pocket City Farms\, 31A Mallett Street\, Camperdown\, Australia
END:VEVENT
END:VCALENDAR
