BEGIN:VCALENDAR
VERSION:2.0
PRODID:-//Squarespace Inc/Squarespace 6//v6//EN
BEGIN:VEVENT
UID:5975d80be4fcb57d716a5022@squarespace.com
DTSTAMP:20171126T231117Z
DTSTART:20171201T230000Z
DTEND:20171202T050000Z
SUMMARY:WOODEN SPOON CARVING
GEO:-33.88899;151.176387
LOCATION:Camperdown Commons\, 31A Mallett Street\, Camperdown\, NSW\, 2050\
 , Australia
END:VEVENT
END:VCALENDAR
